BEGIN:VCALENDAR
VERSION:2.0
PRODID:-//Riverstone Real Estate - ECPv6.8.3//NONSGML v1.0//EN
CALSCALE:GREGORIAN
METHOD:PUBLISH
X-WR-CALNAME:Riverstone Real Estate
X-ORIGINAL-URL:https://riverstone-utah.com
X-WR-CALDESC:Events for Riverstone Real Estate
REFRESH-INTERVAL;VALUE=DURATION:PT1H
X-Robots-Tag:noindex
X-PUBLISHED-TTL:PT1H
BEGIN:VTIMEZONE
TZID:UTC
BEGIN:STANDARD
TZOFFSETFROM:+0000
TZOFFSETTO:+0000
TZNAME:UTC
DTSTART:20240101T000000
END:STANDARD
END:VTIMEZONE
BEGIN:VEVENT
DTSTART;VALUE=DATE:20241224
DTEND;VALUE=DATE:20241226
DTSTAMP:20260422T225839
CREATED:20241210T225450Z
LAST-MODIFIED:20250124T220916Z
UID:131-1734998400-1735171199@riverstone-utah.com
SUMMARY:Understanding Today's Market From The CEO of Intercap Lending
DESCRIPTION:
URL:https://riverstone-utah.com/event/understanding-todays-market-from-the-ceo-of-intercap-lending/
LOCATION:Oliver’s Place\, Liberty Park\, Salt Lake City\, UT\, 84105\, United States
CATEGORIES:Main Event
ORGANIZER;CN="Tanner  L.":MAILTO:Tanner@riverstone-utah.com
END:VEVENT
END:VCALENDAR